BEGIN:VCALENDAR
VERSION:2.0
PRODID:icalendar-ruby
CALSCALE:GREGORIAN
METHOD:PUBLISH
BEGIN:VEVENT
DTSTAMP:20260423T132324Z
UID:6-239765@epworthonkarl.org
DTSTART:20261101T140000Z
DTEND:20261101T150000Z
CLASS:PUBLIC
CREATED:20260423T084849
DESCRIPTION:
LAST-MODIFIED:20260423T084849
LOCATION:Worship Center
SUMMARY:Worship
URL;VALUE=URI:https://www.epworthonkarl.org/events/worship/2026-11-01
END:VEVENT
END:VCALENDAR
