BEGIN:VCALENDAR
VERSION:2.0
PRODID:icalendar-ruby
CALSCALE:GREGORIAN
METHOD:PUBLISH
BEGIN:VEVENT
DTSTAMP:20260423T114024Z
UID:6-239694@epworthonkarl.org
DTSTART:20261025T130000Z
DTEND:20261025T140000Z
CLASS:PUBLIC
CREATED:20260422T231832
DESCRIPTION:
LAST-MODIFIED:20260422T231832
LOCATION:Worship Center
SUMMARY:Worship
URL;VALUE=URI:https://www.epworthonkarl.org/events/worship/2026-10-25
END:VEVENT
END:VCALENDAR
