BEGIN:VCALENDAR
VERSION:2.0
PRODID:icalendar-ruby
CALSCALE:GREGORIAN
METHOD:PUBLISH
BEGIN:VEVENT
DTSTAMP:20260423T031745Z
UID:6-239619@epworthonkarl.org
DTSTART:20260920T130000Z
DTEND:20260920T140000Z
CLASS:PUBLIC
CREATED:20260422T202401
DESCRIPTION:
LAST-MODIFIED:20260422T202401
LOCATION:Worship Center
SUMMARY:Worship
URL;VALUE=URI:https://www.epworthonkarl.org/events/worship/2026-09-20
END:VEVENT
END:VCALENDAR
