BEGIN:VCALENDAR
VERSION:2.0
PRODID:icalendar-ruby
CALSCALE:GREGORIAN
METHOD:PUBLISH
BEGIN:VEVENT
DTSTAMP:20260421T105628Z
UID:6-238816@epworthonkarl.org
DTSTART:20260201T140000Z
DTEND:20260201T150000Z
CLASS:PUBLIC
CREATED:20260420T212236
DESCRIPTION:
LAST-MODIFIED:20260420T212236
LOCATION:Worship Center
SUMMARY:Worship
URL;VALUE=URI:https://www.epworthonkarl.org/events/worship/2026-02-01
END:VEVENT
END:VCALENDAR
