BEGIN:VCALENDAR
VERSION:2.0
PRODID:icalendar-ruby
CALSCALE:GREGORIAN
METHOD:PUBLISH
BEGIN:VEVENT
DTSTAMP:20260421T085724Z
UID:6-238815@epworthonkarl.org
DTSTART:20260125T140000Z
DTEND:20260125T150000Z
CLASS:PUBLIC
CREATED:20260420T212236
DESCRIPTION:
LAST-MODIFIED:20260420T212236
LOCATION:Worship Center
SUMMARY:Worship
URL;VALUE=URI:https://www.epworthonkarl.org/events/worship/2026-01-25
END:VEVENT
END:VCALENDAR
